BEGIN:VCALENDAR
VERSION:2.0
PRODID:-//Sabre//Sabre VObject 4.5.8//EN
CALSCALE:GREGORIAN
BEGIN:VEVENT
UID:sabre-vobject-862971b7-b9b8-4846-9e91-b9de16ef3bb3
DTSTAMP:20260424T161609Z
SUMMARY:Kein Knopf mit Kopf
DESCRIPTION:https://regioningolstadt.com/kein-knopf-mit-kopf_id36639
DTSTART;TZID=Europe/Berlin:20250106T130000
DTEND;TZID=Europe/Berlin:20250106T150000
LOCATION:Marieluise-Fleißer-Museum\, Kupferstraße 18\, 85049 Ingolstadt
END:VEVENT
END:VCALENDAR
