BEGIN:VCALENDAR
VERSION:2.0
PRODID:-//Sabre//Sabre VObject 4.5.8//EN
CALSCALE:GREGORIAN
BEGIN:VEVENT
UID:sabre-vobject-87fb7b68-087b-4eec-be29-b7692f0e7781
DTSTAMP:20260424T192334Z
SUMMARY:Geschichte am Kaffeetisch: Wie kam die Schutter in die Stadt? - Bil
 der und Lyrik
DESCRIPTION:https://regioningolstadt.com/geschichte-am-kaffeetisch-wie-kam-
 die-schutter-in-die-stadt-bilder-und-lyrik_id36638
DTSTART;TZID=Europe/Berlin:20250105T150000
DTEND;TZID=Europe/Berlin:20250105T160000
LOCATION:Foyer des Zentrums Stadtgeschichte Ingolstadt\, Auf der Schanz 45\
 , 85049 Ingolstadt
END:VEVENT
END:VCALENDAR
