BEGIN:VCALENDAR
VERSION:2.0
PRODID:-//Sabre//Sabre VObject 4.5.8//EN
CALSCALE:GREGORIAN
BEGIN:VEVENT
UID:sabre-vobject-571be104-9d39-440d-a1bd-aa22797ef93c
DTSTAMP:20260424T220230Z
SUMMARY:Vorführung der Modelleisenbahn im Spielzeugmuseum
DESCRIPTION:https://regioningolstadt.com/vorfuehrung-der-modelleisenbahn-im
 -spielzeugmuseum_id36637
DTSTART;TZID=Europe/Berlin:20250105T133000
DTEND;TZID=Europe/Berlin:20250105T163000
LOCATION:Zentrum Stadtgeschichte\, \,  
END:VEVENT
END:VCALENDAR
