BEGIN:VCALENDAR
VERSION:2.0
PRODID:-//Sabre//Sabre VObject 4.5.8//EN
CALSCALE:GREGORIAN
BEGIN:VEVENT
UID:sabre-vobject-f2717deb-f034-49b8-9b44-407e3a69eceb
DTSTAMP:20260420T041648Z
SUMMARY:Pflanzenflohmarkt der Volkshochschule
DESCRIPTION:https://regioningolstadt.com/pflanzenflohmarkt-der-volkshochsch
 ule_id36626
DTSTART;TZID=Europe/Berlin:20250518T080000
DTEND;TZID=Europe/Berlin:20250518T120000
LOCATION:Carraraplatz\, \,  
END:VEVENT
END:VCALENDAR
