BEGIN:VCALENDAR
VERSION:2.0
PRODID:-//Sabre//Sabre VObject 4.5.8//EN
CALSCALE:GREGORIAN
BEGIN:VEVENT
UID:sabre-vobject-f48da38f-64a8-4942-abf4-ab90011a64cf
DTSTAMP:20260423T223633Z
SUMMARY:Gloria! - Filmvorführung
DESCRIPTION:https://regioningolstadt.com/gloria-filmvorfuehrung_id36625
DTSTART;TZID=Europe/Berlin:20250515T190000
DURATION:PT30M
LOCATION:Volkshochschule Ingolstadt - Kinosaal\, Hallstraße 5\, 85949 Ingo
 lstadt
END:VEVENT
END:VCALENDAR
