BEGIN:VCALENDAR
VERSION:2.0
PRODID:-//Sabre//Sabre VObject 4.5.8//EN
CALSCALE:GREGORIAN
BEGIN:VEVENT
UID:sabre-vobject-e00e0141-1a7d-4354-b260-eb3b9e952ff1
DTSTAMP:20260421T173145Z
SUMMARY:El Condor Pasa - auf der Suche nach dem Kondor
DESCRIPTION:https://regioningolstadt.com/el-condor-pasa-auf-der-suche-nach-
 dem-kondor_id36624
DTSTART;TZID=Europe/Berlin:20250509T190000
DURATION:PT30M
LOCATION:VHS Ingolstadt\, Hallstr. 5\, 85049 Ingolstadt
END:VEVENT
END:VCALENDAR
