BEGIN:VCALENDAR
VERSION:2.0
PRODID:-//Sabre//Sabre VObject 4.5.8//EN
CALSCALE:GREGORIAN
BEGIN:VEVENT
UID:sabre-vobject-89145823-0f16-4ebf-ba18-d721670c33f2
DTSTAMP:20260420T063501Z
SUMMARY:Hinter den Kulissen...der Lebenshilfe
DESCRIPTION:https://regioningolstadt.com/hinter-den-kulissen-der-lebenshilf
 e_id36617
DTSTART;TZID=Europe/Berlin:20250403T133000
DTEND;TZID=Europe/Berlin:20250403T150000
LOCATION:Lebenshilfe Werkstätten der Region 10 GmbH\, Am Franziskanerwasse
 r 22\, 85053 Ingolstadt
END:VEVENT
END:VCALENDAR
