BEGIN:VCALENDAR
VERSION:2.0
PRODID:-//Sabre//Sabre VObject 4.5.8//EN
CALSCALE:GREGORIAN
BEGIN:VEVENT
UID:sabre-vobject-d52e54fe-8c31-4352-8813-a79ed3c607c1
DTSTAMP:20260422T090714Z
SUMMARY:Siena: erlebnisreiche Stadtansichten eines Straßenfotografen
DESCRIPTION:https://regioningolstadt.com/siena-erlebnisreiche-stadtansichte
 n-eines-strassenfotografen_id36616
DTSTART;TZID=Europe/Berlin:20250402T190000
DURATION:PT30M
LOCATION:VHS Ingolstadt\, Hallstr. 5\, 85049 Ingolstadt
END:VEVENT
END:VCALENDAR
