BEGIN:VCALENDAR
VERSION:2.0
PRODID:-//Sabre//Sabre VObject 4.5.8//EN
CALSCALE:GREGORIAN
BEGIN:VEVENT
UID:sabre-vobject-954935f5-7658-438e-a839-7297b64c5490
DTSTAMP:20260422T113041Z
SUMMARY:Neuburger Volksfest
DESCRIPTION:https://regioningolstadt.com/neuburger-volksfest_id36604
DTSTART;TZID=Europe/Berlin:20260802T103000
DURATION:PT30M
LOCATION:Volksfestplatz\, Volksfestplatz\, 86633 Neuburg an der Donau
END:VEVENT
END:VCALENDAR
