BEGIN:VCALENDAR
VERSION:2.0
PRODID:-//Sabre//Sabre VObject 4.5.8//EN
CALSCALE:GREGORIAN
BEGIN:VEVENT
UID:sabre-vobject-2d90f985-e605-4c8f-85c2-5c1597f37838
DTSTAMP:20260422T124303Z
SUMMARY:Neuburger Volksfest
DESCRIPTION:https://regioningolstadt.com/neuburger-volksfest_id36600
DTSTART;TZID=Europe/Berlin:20260729T140000
DURATION:PT30M
LOCATION:Volksfestplatz\, Volksfestplatz\, 86633 Neuburg an der Donau
END:VEVENT
END:VCALENDAR
