BEGIN:VCALENDAR
VERSION:2.0
PRODID:-//Sabre//Sabre VObject 4.5.8//EN
CALSCALE:GREGORIAN
BEGIN:VEVENT
UID:sabre-vobject-ea0c0803-de5a-4fec-85f0-7f92b2159fb8
DTSTAMP:20260422T110428Z
SUMMARY:Neuburger Volksfest
DESCRIPTION:https://regioningolstadt.com/neuburger-volksfest_id36599
DTSTART;TZID=Europe/Berlin:20260728T140000
DURATION:PT30M
LOCATION:Volksfestplatz\, Volksfestplatz\, 86633 Neuburg an der Donau
END:VEVENT
END:VCALENDAR
