BEGIN:VCALENDAR
VERSION:2.0
PRODID:-//Sabre//Sabre VObject 4.5.8//EN
CALSCALE:GREGORIAN
BEGIN:VEVENT
UID:sabre-vobject-743981a4-b155-4609-a7ff-b5cdbaa32790
DTSTAMP:20260422T124243Z
SUMMARY:Neuburger Volksfest
DESCRIPTION:https://regioningolstadt.com/neuburger-volksfest_id36598
DTSTART;TZID=Europe/Berlin:20260727T140000
DURATION:PT30M
LOCATION:Volksfestplatz\, Volksfestplatz\, 86633 Neuburg an der Donau
END:VEVENT
END:VCALENDAR
