BEGIN:VCALENDAR
VERSION:2.0
PRODID:-//Sabre//Sabre VObject 4.5.8//EN
CALSCALE:GREGORIAN
BEGIN:VEVENT
UID:sabre-vobject-08e17ee3-3f90-46d8-b541-6460eebba0a2
DTSTAMP:20260422T113142Z
SUMMARY:Neuburger Volksfest
DESCRIPTION:https://regioningolstadt.com/neuburger-volksfest_id36597
DTSTART;TZID=Europe/Berlin:20260801T140000
DURATION:PT30M
LOCATION:Volksfestplatz\, Volksfestplatz\, 86633 Neuburg an der Donau
END:VEVENT
END:VCALENDAR
