BEGIN:VCALENDAR
VERSION:2.0
PRODID:-//Sabre//Sabre VObject 4.5.8//EN
CALSCALE:GREGORIAN
BEGIN:VEVENT
UID:sabre-vobject-85f4aed1-44a8-412b-a8fa-59de7c737b43
DTSTAMP:20260420T000250Z
SUMMARY:Sprechtag Websiteanalyse: Usability und Barrierefreiheit
DESCRIPTION:https://regioningolstadt.com/sprechtag-websiteanalyse-usability
 -und-barrierefreiheit_id36576
DTSTART;TZID=Europe/Berlin:20250123T090000
DTEND;TZID=Europe/Berlin:20250123T160000
LOCATION:Online-Veranstaltung\, \,  
END:VEVENT
END:VCALENDAR
