BEGIN:VCALENDAR
VERSION:2.0
PRODID:-//Sabre//Sabre VObject 4.5.8//EN
CALSCALE:GREGORIAN
BEGIN:VEVENT
UID:sabre-vobject-de70b887-a69e-488a-9ff4-bd33a743918c
DTSTAMP:20260420T113121Z
SUMMARY:Sonntagsführung durch die Dauerausstellung
DESCRIPTION:https://regioningolstadt.com/sonntagsfuehrung-durch-die-dauerau
 sstellung_id36574
DTSTART;TZID=Europe/Berlin:20250119T143000
DTEND;TZID=Europe/Berlin:20250119T160000
LOCATION:Deutsches Medizinhistorisches Museum\, Anatomiestraße 18 – 20\,
  85049 Ingolstadt
END:VEVENT
END:VCALENDAR
