BEGIN:VCALENDAR
VERSION:2.0
PRODID:-//Sabre//Sabre VObject 4.5.8//EN
CALSCALE:GREGORIAN
BEGIN:VEVENT
UID:sabre-vobject-03b48dc0-bcb3-4164-853d-d4fbc5fbbb1f
DTSTAMP:20260420T162127Z
SUMMARY:Vortrag: Opfer der NS-Euthanasie aus Ingolstadt\, Hirnforschung und
  NS-Krankenmord an den Instituten der Max-Planck-Gesellschaft
DESCRIPTION:https://regioningolstadt.com/vortrag-opfer-der-ns-euthanasie-au
 s-ingolstadt-hirnforschung-und-ns-krankenmord-an-den-instituten-der-max-pl
 anck-gesellschaft_id36573
DTSTART;TZID=Europe/Berlin:20250118T190000
DTEND;TZID=Europe/Berlin:20250118T200000
LOCATION:Deutsches Medizinhistorisches Museum\, Anatomiestraße 18 – 20\,
  85049 Ingolstadt
END:VEVENT
END:VCALENDAR
