BEGIN:VCALENDAR
VERSION:2.0
PRODID:-//Sabre//Sabre VObject 4.5.8//EN
CALSCALE:GREGORIAN
BEGIN:VEVENT
UID:sabre-vobject-26693159-1b93-45e6-a0a0-d4e657b51c4d
DTSTAMP:20260422T174344Z
SUMMARY:Reihe: Mittagsvisite
DESCRIPTION:https://regioningolstadt.com/reihe-mittagsvisite_id36572
DTSTART;TZID=Europe/Berlin:20250114T123000
DTEND;TZID=Europe/Berlin:20250114T130000
LOCATION:Deutsches Medizinhistorisches Museum\, Anatomiestraße 18 – 20\,
  85049 Ingolstadt
END:VEVENT
END:VCALENDAR
