BEGIN:VCALENDAR
VERSION:2.0
PRODID:-//Sabre//Sabre VObject 4.5.8//EN
CALSCALE:GREGORIAN
BEGIN:VEVENT
UID:sabre-vobject-c1ad2614-1741-4f83-9d93-49ad3683feb3
DTSTAMP:20260424T104413Z
SUMMARY:Weihnachtskonzert auf dem Westfriedhof
DESCRIPTION:https://regioningolstadt.com/weihnachtskonzert-auf-dem-westfrie
 dhof_id36553
DTSTART;TZID=Europe/Berlin:20241224T173000
DURATION:PT30M
LOCATION:Westfriedhof\, \,  
END:VEVENT
END:VCALENDAR
