BEGIN:VCALENDAR
VERSION:2.0
PRODID:-//Sabre//Sabre VObject 4.5.8//EN
CALSCALE:GREGORIAN
BEGIN:VEVENT
UID:sabre-vobject-d47218a5-00fe-4dba-aa85-20d5578cc491
DTSTAMP:20260423T041757Z
SUMMARY:Die WestPark Minigolf-Challenge
DESCRIPTION:https://regioningolstadt.com/die-westpark-minigolf-challenge_id
 36548
DTSTART;TZID=Europe/Berlin:20250113T110000
DTEND;TZID=Europe/Berlin:20250118T200000
LOCATION:WestPark Shoppingcenter\, Am Westpark 6\, 85057 Ingolstadt
END:VEVENT
END:VCALENDAR
