BEGIN:VCALENDAR
VERSION:2.0
PRODID:-//Sabre//Sabre VObject 4.5.8//EN
CALSCALE:GREGORIAN
BEGIN:VEVENT
UID:sabre-vobject-42b81a70-1adc-462a-bc74-7136a4406518
DTSTAMP:20260421T155415Z
SUMMARY:pink military
DESCRIPTION:https://regioningolstadt.com/pink-military_id36547
DTSTART;TZID=Europe/Berlin:20241212T121200
DTEND;TZID=Europe/Berlin:20250330T173000
LOCATION:Neues Schloss Ingolstadt\, Paradeplatz 4\, 85049 Ingolstadt
END:VEVENT
END:VCALENDAR
