BEGIN:VCALENDAR
VERSION:2.0
PRODID:-//Sabre//Sabre VObject 4.5.8//EN
CALSCALE:GREGORIAN
BEGIN:VEVENT
UID:sabre-vobject-fef4b4b3-b1ff-47bb-a2de-c35b87c3187b
DTSTAMP:20260419T175530Z
SUMMARY:IT-Sicherheit und Recht - Rechtlichen Rahmenbedingungen für den Um
 gang mit Daten in Deutschland
DESCRIPTION:https://regioningolstadt.com/it-sicherheit-und-recht-rechtliche
 n-rahmenbedingungen-fuer-den-umgang-mit-daten-in-deutschland_id36534
DTSTART;TZID=Europe/Berlin:20250122T140000
DTEND;TZID=Europe/Berlin:20250122T153000
LOCATION:Online-Veranstaltung\, \,  
END:VEVENT
END:VCALENDAR
