BEGIN:VCALENDAR
VERSION:2.0
PRODID:-//Sabre//Sabre VObject 4.5.8//EN
CALSCALE:GREGORIAN
BEGIN:VEVENT
UID:sabre-vobject-a2e06a82-382c-4698-816a-7973efefc9af
DTSTAMP:20260422T060250Z
SUMMARY:Welche  Auswirkungen hat der Wahlsieg Trumps auf die deutsche Siche
 rheitspolitik?
DESCRIPTION:https://regioningolstadt.com/welche-auswirkungen-hat-der-wahlsi
 eg-trumps-auf-die-deutsche-sicherheitspolitik_id36533
DTSTART;TZID=Europe/Berlin:20250115T173000
DTEND;TZID=Europe/Berlin:20250115T190000
LOCATION:Bayerisches Armeemuseum im Neuen Schloss\, Paradeplatz 4\, 85049 I
 ngolstadt
END:VEVENT
END:VCALENDAR
