BEGIN:VCALENDAR
VERSION:2.0
PRODID:-//Sabre//Sabre VObject 4.5.8//EN
CALSCALE:GREGORIAN
BEGIN:VEVENT
UID:sabre-vobject-4f634374-662b-47a8-b16b-edd52de1a170
DTSTAMP:20260420T221715Z
SUMMARY:Feedbackkultur in Unternehmen gestalten
DESCRIPTION:https://regioningolstadt.com/feedbackkultur-in-unternehmen-gest
 alten_id36525
DTSTART;TZID=Europe/Berlin:20250320T103000
DTEND;TZID=Europe/Berlin:20250320T120000
LOCATION:Online-Veranstaltung\, \,  
END:VEVENT
END:VCALENDAR
