BEGIN:VCALENDAR
VERSION:2.0
PRODID:-//Sabre//Sabre VObject 4.5.8//EN
CALSCALE:GREGORIAN
BEGIN:VEVENT
UID:sabre-vobject-2b97adce-99c8-41ac-a83a-52a0bc438634
DTSTAMP:20260421T060133Z
SUMMARY:Internationaler Onlinehandel – die Chancen des globalen E-Commerc
 e Markts nutzen
DESCRIPTION:https://regioningolstadt.com/internationaler-onlinehandel-die-c
 hancen-des-globalen-e-commerce-markts-nutzen_id36516
DTSTART;TZID=Europe/Berlin:20250117T090000
DTEND;TZID=Europe/Berlin:20250117T094500
LOCATION:Online-Veranstaltung\, \,  
END:VEVENT
END:VCALENDAR
