BEGIN:VCALENDAR
VERSION:2.0
PRODID:-//Sabre//Sabre VObject 4.5.8//EN
CALSCALE:GREGORIAN
BEGIN:VEVENT
UID:sabre-vobject-e45fe212-652b-4ee8-9fdf-c1f270a73312
DTSTAMP:20260422T102747Z
SUMMARY:Neue Gesetze 2025 von A-Z
DESCRIPTION:https://regioningolstadt.com/neue-gesetze-2025-von-a-z_id36515
DTSTART;TZID=Europe/Berlin:20250115T150000
DTEND;TZID=Europe/Berlin:20250115T163000
LOCATION:Online-Veranstaltung\, \,  
END:VEVENT
END:VCALENDAR
