BEGIN:VCALENDAR
VERSION:2.0
PRODID:-//Sabre//Sabre VObject 4.5.8//EN
CALSCALE:GREGORIAN
BEGIN:VEVENT
UID:sabre-vobject-d331f795-7a6e-4b33-b0d0-973da950b0a4
DTSTAMP:20260422T145721Z
SUMMARY:Zielgruppe erweitern und Chancen erhöhen – motivierte Mitarbeite
 r sind überall zu finden
DESCRIPTION:https://regioningolstadt.com/zielgruppe-erweitern-und-chancen-e
 rhoehen-motivierte-mitarbeiter-sind-ueberall-zu-finden_id36514
DTSTART;TZID=Europe/Berlin:20250115T090000
DTEND;TZID=Europe/Berlin:20250115T100000
LOCATION:Online-Veranstaltung\, \,  
END:VEVENT
END:VCALENDAR
