BEGIN:VCALENDAR
VERSION:2.0
PRODID:-//Sabre//Sabre VObject 4.5.8//EN
CALSCALE:GREGORIAN
BEGIN:VEVENT
UID:sabre-vobject-30aa65f2-2f21-450d-9444-0d198aa04746
DTSTAMP:20260423T223633Z
SUMMARY:Bezahlverfahren im Onlinehandel – Checkout-Prozess als Erfolgsfak
 tor
DESCRIPTION:https://regioningolstadt.com/bezahlverfahren-im-onlinehandel-ch
 eckout-prozess-als-erfolgsfaktor_id36512
DTSTART;TZID=Europe/Berlin:20250110T090000
DTEND;TZID=Europe/Berlin:20250110T094500
LOCATION:Online-Veranstaltung\, \,  
END:VEVENT
END:VCALENDAR
