BEGIN:VCALENDAR
VERSION:2.0
PRODID:-//Sabre//Sabre VObject 4.5.8//EN
CALSCALE:GREGORIAN
BEGIN:VEVENT
UID:sabre-vobject-dd65667e-8142-4d53-992c-502cab4731fc
DTSTAMP:20260423T193119Z
SUMMARY:Die Geschichte der Zukunft – Transformation von Wirtschaft und Ge
 sellschaft
DESCRIPTION:https://regioningolstadt.com/die-geschichte-der-zukunft-transfo
 rmation-von-wirtschaft-und-gesellschaft_id36511
DTSTART;TZID=Europe/Berlin:20241220T083000
DTEND;TZID=Europe/Berlin:20241220T093000
LOCATION:Online-Veranstaltung\, \,  
END:VEVENT
END:VCALENDAR
