BEGIN:VCALENDAR
VERSION:2.0
PRODID:-//Sabre//Sabre VObject 4.5.8//EN
CALSCALE:GREGORIAN
BEGIN:VEVENT
UID:sabre-vobject-6fa8f073-aa98-4105-ba40-3a1f9504483e
DTSTAMP:20260421T174423Z
SUMMARY:Anforderungen des Energieeffizienzgesetzes (EnEfG)
DESCRIPTION:https://regioningolstadt.com/anforderungen-des-energieeffizienz
 gesetzes-enefg_id36498
DTSTART;TZID=Europe/Berlin:20250116T130000
DTEND;TZID=Europe/Berlin:20250116T134500
LOCATION:Online-Veranstaltung\, \,  
END:VEVENT
END:VCALENDAR
