BEGIN:VCALENDAR
VERSION:2.0
PRODID:-//Sabre//Sabre VObject 4.5.8//EN
CALSCALE:GREGORIAN
BEGIN:VEVENT
UID:sabre-vobject-e5320e42-72b0-4c00-a873-0b417e6db911
DTSTAMP:20260423T102757Z
SUMMARY:Das WestPark Kinder-Wonderland
DESCRIPTION:https://regioningolstadt.com/das-westpark-kinder-wonderland_id3
 6497
DTSTART;TZID=Europe/Berlin:20250111T110000
DTEND;TZID=Europe/Berlin:20250111T190000
LOCATION:Westpark Plaza\, Am Westpark 6\, 85057 Ingolstadt
END:VEVENT
END:VCALENDAR
