BEGIN:VCALENDAR
VERSION:2.0
PRODID:-//Sabre//Sabre VObject 4.5.8//EN
CALSCALE:GREGORIAN
BEGIN:VEVENT
UID:sabre-vobject-719af2f9-1e45-4903-92ba-78a988793ed2
DTSTAMP:20260424T140514Z
SUMMARY:Dreikönigskonzert
DESCRIPTION:https://regioningolstadt.com/dreikoenigskonzert_id36382
DTSTART;TZID=Europe/Berlin:20250106T170000
DURATION:PT30M
LOCATION:Pfarrkirche St. Martin (Mailing)\, \,  
END:VEVENT
END:VCALENDAR
