BEGIN:VCALENDAR
VERSION:2.0
PRODID:-//Sabre//Sabre VObject 4.5.8//EN
CALSCALE:GREGORIAN
BEGIN:VEVENT
UID:sabre-vobject-b90ef2b5-6d05-4068-a9cb-0c1728529fd9
DTSTAMP:20260420T204621Z
SUMMARY:ORIENTIERUNGS- UND FÖRDERBERATUNG
DESCRIPTION:https://regioningolstadt.com/orientierungs-und-foerderberatung_
 id36365
DTSTART;TZID=Europe/Berlin:20250320T100000
DTEND;TZID=Europe/Berlin:20250320T120000
LOCATION:Online-Veranstaltung\, \,  
END:VEVENT
END:VCALENDAR
