BEGIN:VCALENDAR
VERSION:2.0
PRODID:-//Sabre//Sabre VObject 4.5.8//EN
CALSCALE:GREGORIAN
BEGIN:VEVENT
UID:sabre-vobject-1e5558e4-e891-4bb8-a427-91e3e61e1f5c
DTSTAMP:20260420T030255Z
SUMMARY:ORIENTIERUNGS- UND FÖRDERBERATUNG
DESCRIPTION:https://regioningolstadt.com/orientierungs-und-foerderberatung_
 id36364
DTSTART;TZID=Europe/Berlin:20250318T100000
DTEND;TZID=Europe/Berlin:20250318T120000
LOCATION:Online-Veranstaltung\, \,  
END:VEVENT
END:VCALENDAR
