BEGIN:VCALENDAR
VERSION:2.0
PRODID:-//Sabre//Sabre VObject 4.5.8//EN
CALSCALE:GREGORIAN
BEGIN:VEVENT
UID:sabre-vobject-97707e0a-213f-4b6b-8457-06335fabc4a6
DTSTAMP:20260420T013538Z
SUMMARY:Weiterbildungskultur als Erfolgsfaktor
DESCRIPTION:https://regioningolstadt.com/weiterbildungskultur-als-erfolgsfa
 ktor_id36349
DTSTART;TZID=Europe/Berlin:20250122T100000
DTEND;TZID=Europe/Berlin:20250122T110000
LOCATION:Online-Veranstaltung\, \,  
END:VEVENT
END:VCALENDAR
