BEGIN:VCALENDAR
VERSION:2.0
PRODID:-//Sabre//Sabre VObject 4.5.8//EN
CALSCALE:GREGORIAN
BEGIN:VEVENT
UID:sabre-vobject-bface334-e6af-4562-a575-a363b0b6e4ad
DTSTAMP:20260421T115943Z
SUMMARY:Wie Sie in Zeiten der Veränderung am besten kommunizieren
DESCRIPTION:https://regioningolstadt.com/wie-sie-in-zeiten-der-veraenderung
 -am-besten-kommunizieren_id36348
DTSTART;TZID=Europe/Berlin:20250116T150000
DTEND;TZID=Europe/Berlin:20250116T160000
LOCATION:Online-Veranstaltung\, \,  
END:VEVENT
END:VCALENDAR
