BEGIN:VCALENDAR
VERSION:2.0
PRODID:-//Sabre//Sabre VObject 4.5.8//EN
CALSCALE:GREGORIAN
BEGIN:VEVENT
UID:sabre-vobject-7f36ec01-de5c-400e-b3fc-bb75ebeb5aca
DTSTAMP:20260422T205312Z
SUMMARY:Changemanagement für die KI Revolution
DESCRIPTION:https://regioningolstadt.com/changemanagement-fuer-die-ki-revol
 ution_id36347
DTSTART;TZID=Europe/Berlin:20250114T100000
DTEND;TZID=Europe/Berlin:20250114T160000
LOCATION:Online-Veranstaltung\, \,  
END:VEVENT
END:VCALENDAR
