BEGIN:VCALENDAR
VERSION:2.0
PRODID:-//Sabre//Sabre VObject 4.5.8//EN
CALSCALE:GREGORIAN
BEGIN:VEVENT
UID:sabre-vobject-85f26f20-fe6b-4f83-bc7f-b13afdce48df
DTSTAMP:20260423T024952Z
SUMMARY:Texte und Bilder für Social Media
DESCRIPTION:https://regioningolstadt.com/texte-und-bilder-fuer-social-media
 _id36346
DTSTART;TZID=Europe/Berlin:20250113T113000
DTEND;TZID=Europe/Berlin:20250113T130000
LOCATION:Online-Veranstaltung\, \,  
END:VEVENT
END:VCALENDAR
