BEGIN:VCALENDAR
VERSION:2.0
PRODID:-//Sabre//Sabre VObject 4.5.8//EN
CALSCALE:GREGORIAN
BEGIN:VEVENT
UID:sabre-vobject-230e167f-218d-4829-8d7c-566d80f11c50
DTSTAMP:20260424T074433Z
SUMMARY:Digitale Visitenkarte – Wie stelle ich mein Unternehmen attraktiv
  für Digital Natives auf?
DESCRIPTION:https://regioningolstadt.com/digitale-visitenkarte-wie-stelle-i
 ch-mein-unternehmen-attraktiv-fuer-digital-natives-auf_id36344
DTSTART;TZID=Europe/Berlin:20250107T160000
DTEND;TZID=Europe/Berlin:20250107T170000
LOCATION:Online-Veranstaltung\, \,  
END:VEVENT
END:VCALENDAR
