BEGIN:VCALENDAR
VERSION:2.0
PRODID:-//Sabre//Sabre VObject 4.5.8//EN
CALSCALE:GREGORIAN
BEGIN:VEVENT
UID:sabre-vobject-03ee83b9-ca98-446c-a456-6285171e08b1
DTSTAMP:20260423T115347Z
SUMMARY:Businessplan - so gehen Sie richtig vor
DESCRIPTION:https://regioningolstadt.com/businessplan-so-gehen-sie-richtig-
 vor_id36343
DTSTART;TZID=Europe/Berlin:20241218T170000
DTEND;TZID=Europe/Berlin:20241218T180000
LOCATION:Online-Veranstaltung\, \,  
END:VEVENT
END:VCALENDAR
