BEGIN:VCALENDAR
VERSION:2.0
PRODID:-//Sabre//Sabre VObject 4.5.8//EN
CALSCALE:GREGORIAN
BEGIN:VEVENT
UID:sabre-vobject-7791a80b-67db-470f-9b36-894b1cbc09fe
DTSTAMP:20260422T084849Z
SUMMARY:Sein und Zeit - Vernissage John Schmitz im Malipa Art Room
DESCRIPTION:https://regioningolstadt.com/sein-und-zeit-vernissage-john-schm
 itz-im-malipa-art-room_id36341
DTSTART;TZID=Europe/Berlin:20241213T180000
DTEND;TZID=Europe/Berlin:20241213T210000
LOCATION:MALIPA - The Art Room\, Taschenturmstraße 3\, 85049 Ingolstadt
END:VEVENT
END:VCALENDAR
