BEGIN:VCALENDAR
VERSION:2.0
PRODID:-//Sabre//Sabre VObject 4.5.8//EN
CALSCALE:GREGORIAN
BEGIN:VEVENT
UID:sabre-vobject-ea1987bf-e8dd-441e-b84a-af7df841ba14
DTSTAMP:20260421T205359Z
SUMMARY:Das Batterienetzwerk Bayern – Innovation und Vernetzung entlang d
 er Wertschöpfungskette Batterie
DESCRIPTION:https://regioningolstadt.com/das-batterienetzwerk-bayern-innova
 tion-und-vernetzung-entlang-der-wertschoepfungskette-batterie_id36340
DTSTART;TZID=Europe/Berlin:20241213T083000
DTEND;TZID=Europe/Berlin:20241213T093000
LOCATION:Online-Veranstaltung\, \,  
END:VEVENT
END:VCALENDAR
