BEGIN:VCALENDAR
VERSION:2.0
PRODID:-//Sabre//Sabre VObject 4.5.8//EN
CALSCALE:GREGORIAN
BEGIN:VEVENT
UID:sabre-vobject-c984ff64-9712-46ab-a954-a0a9287abb22
DTSTAMP:20260424T042509Z
SUMMARY:Adventskonzert des Jugendkammerchor Ingolstadt
DESCRIPTION:https://regioningolstadt.com/adventskonzert-des-jugendkammercho
 r-ingolstadt_id36334
DTSTART;TZID=Europe/Berlin:20241222T160000
DTEND;TZID=Europe/Berlin:20241222T170000
LOCATION:Pfarrkirche St. Moritz\, Moritzstraße 2\, 85049 Ingolstadt
END:VEVENT
END:VCALENDAR
