BEGIN:VCALENDAR
VERSION:2.0
PRODID:-//Sabre//Sabre VObject 4.5.8//EN
CALSCALE:GREGORIAN
BEGIN:VEVENT
UID:sabre-vobject-d4ff7db3-12ba-461d-b44f-322fd52f3d0e
DTSTAMP:20260421T100430Z
SUMMARY:Online: Das Unternehmen der Zukunft: GenAI als Motor für Wandel un
 d Innovation
DESCRIPTION:https://regioningolstadt.com/online-das-unternehmen-der-zukunft
 -genai-als-motor-fuer-wandel-und-innovation_id36332
DTSTART;TZID=Europe/Berlin:20241211T160000
DTEND;TZID=Europe/Berlin:20241211T170000
LOCATION:Online-Veranstaltung\, \,  
END:VEVENT
END:VCALENDAR
