BEGIN:VCALENDAR
VERSION:2.0
PRODID:-//Sabre//Sabre VObject 4.5.8//EN
CALSCALE:GREGORIAN
BEGIN:VEVENT
UID:sabre-vobject-130868e8-1d88-4152-ac51-9a4261a2ffae
DTSTAMP:20260424T233403Z
SUMMARY:Family Magic Show mit Sven Catello
DESCRIPTION:https://regioningolstadt.com/family-magic-show-mit-sven-catello
 _id36205
DTSTART;TZID=Europe/Berlin:20250105T110000
DTEND;TZID=Europe/Berlin:20250105T120000
LOCATION:Altstadttheater\, Kanalstraße 1 a\, 85049 Ingolstadt
END:VEVENT
END:VCALENDAR
