BEGIN:VCALENDAR
VERSION:2.0
PRODID:-//Sabre//Sabre VObject 4.5.8//EN
CALSCALE:GREGORIAN
BEGIN:VEVENT
UID:sabre-vobject-70b48f04-9bdd-497f-b6d0-8c32095ebe51
DTSTAMP:20260422T102043Z
SUMMARY:Nachtwanderung
DESCRIPTION:https://regioningolstadt.com/nachtwanderung_id36204
DTSTART;TZID=Europe/Berlin:20241213T193000
DTEND;TZID=Europe/Berlin:20241213T220000
LOCATION:Auwaldsee\, Am Auwaldsee \, 85053 Ingolstadt
END:VEVENT
END:VCALENDAR
