BEGIN:VCALENDAR
VERSION:2.0
PRODID:-//Sabre//Sabre VObject 4.5.8//EN
CALSCALE:GREGORIAN
BEGIN:VEVENT
UID:sabre-vobject-a47de3e1-2969-4f78-8ab1-40fec8909058
DTSTAMP:20260422T235444Z
SUMMARY:Märchen - immer neu\, immer anders - speziell für Kinder
DESCRIPTION:https://regioningolstadt.com/maerchen-immer-neu-immer-anders-sp
 eziell-fuer-kinder_id36195
DTSTART;TZID=Europe/Berlin:20241215T160000
DURATION:PT30M
LOCATION:Kunstwerk im Klenzepark e. V.\, Flankenbatterie 105\, 85051 Ingols
 tadt
END:VEVENT
END:VCALENDAR
