BEGIN:VCALENDAR
VERSION:2.0
PRODID:-//Sabre//Sabre VObject 4.5.8//EN
CALSCALE:GREGORIAN
BEGIN:VEVENT
UID:sabre-vobject-96b4d7bb-f810-441b-8313-ff696aa2df9f
DTSTAMP:20260422T012449Z
SUMMARY:Sing along by Katharina Schmid
DESCRIPTION:https://regioningolstadt.com/sing-along-by-katharina-schmid_id3
 6180
DTSTART;TZID=Europe/Berlin:20250322T193000
DTEND;TZID=Europe/Berlin:20250322T230000
LOCATION:Harderbastei\, Oberer Graben 55\, 85049 Ingolstadt
END:VEVENT
END:VCALENDAR
