BEGIN:VCALENDAR
VERSION:2.0
PRODID:-//Sabre//Sabre VObject 4.5.8//EN
CALSCALE:GREGORIAN
BEGIN:VEVENT
UID:sabre-vobject-edf026b6-fc97-4efb-8e89-012a47b67e79
DTSTAMP:20260424T203011Z
SUMMARY:Neujahrsanblasen mit den Pfeifturmbläsern
DESCRIPTION:https://regioningolstadt.com/neujahrsanblasen-mit-den-pfeifturm
 blaesern_id36156
DTSTART;TZID=Europe/Berlin:20241231T164500
DTEND;TZID=Europe/Berlin:20241231T171500
LOCATION:Rathausplatz Ingolstadt\, \,  
END:VEVENT
END:VCALENDAR
