BEGIN:VCALENDAR
VERSION:2.0
PRODID:-//Sabre//Sabre VObject 4.5.8//EN
CALSCALE:GREGORIAN
BEGIN:VEVENT
UID:sabre-vobject-84053c19-978f-461c-b5a2-2540702c5c86
DTSTAMP:20260423T025018Z
SUMMARY:Auwald-Führung Schloss Grünau - Öffentliche Führung
DESCRIPTION:https://regioningolstadt.com/auwald-fuehrung-schloss-gruenau-oe
 ffentliche-fuehrung_id36142
DTSTART;TZID=Europe/Berlin:20250927T134500
DTEND;TZID=Europe/Berlin:20250927T161500
LOCATION:86663 Neuburg\, Schloss Grünau\, Treffpunkt Parkplatz Schloss Gr
 ünau ( Kreisverkehr)
END:VEVENT
END:VCALENDAR
