BEGIN:VCALENDAR
VERSION:2.0
PRODID:-//Sabre//Sabre VObject 4.5.8//EN
CALSCALE:GREGORIAN
BEGIN:VEVENT
UID:sabre-vobject-20362014-1553-4611-bcc7-398d9155a1f7
DTSTAMP:20260424T025753Z
SUMMARY:Sonntagsführung durch die Dauerausstellung
DESCRIPTION:https://regioningolstadt.com/sonntagsfuehrung-durch-die-dauerau
 sstellung_id36127
DTSTART;TZID=Europe/Berlin:20241222T143000
DTEND;TZID=Europe/Berlin:20241222T160000
LOCATION:Deutsches Medizinhistorisches Museum\, Anatomiestraße 18 – 20\,
  85049 Ingolstadt
END:VEVENT
END:VCALENDAR
